BEGIN:VCALENDAR
VERSION:2.0
PRODID:-//Bündnis Deutschland - Landesverband Sachsen-Anhalt - ECPv6.15.20//NONSGML v1.0//EN
CALSCALE:GREGORIAN
METHOD:PUBLISH
X-WR-CALNAME:Bündnis Deutschland - Landesverband Sachsen-Anhalt
X-ORIGINAL-URL:https://lsa.buendnis-deutschland.de
X-WR-CALDESC:Veranstaltungen für Bündnis Deutschland - Landesverband Sachsen-Anhalt
REFRESH-INTERVAL;VALUE=DURATION:PT1H
X-Robots-Tag:noindex
X-PUBLISHED-TTL:PT1H
BEGIN:VTIMEZONE
TZID:Europe/Helsinki
BEGIN:DAYLIGHT
TZOFFSETFROM:+0200
TZOFFSETTO:+0300
TZNAME:EEST
DTSTART:20250330T010000
END:DAYLIGHT
BEGIN:STANDARD
TZOFFSETFROM:+0300
TZOFFSETTO:+0200
TZNAME:EET
DTSTART:20251026T010000
END:STANDARD
BEGIN:DAYLIGHT
TZOFFSETFROM:+0200
TZOFFSETTO:+0300
TZNAME:EEST
DTSTART:20260329T010000
END:DAYLIGHT
BEGIN:STANDARD
TZOFFSETFROM:+0300
TZOFFSETTO:+0200
TZNAME:EET
DTSTART:20261025T010000
END:STANDARD
BEGIN:DAYLIGHT
TZOFFSETFROM:+0200
TZOFFSETTO:+0300
TZNAME:EEST
DTSTART:20270328T010000
END:DAYLIGHT
BEGIN:STANDARD
TZOFFSETFROM:+0300
TZOFFSETTO:+0200
TZNAME:EET
DTSTART:20271031T010000
END:STANDARD
END:VTIMEZONE
BEGIN:VEVENT
DTSTART;TZID=Europe/Helsinki:20260304T190000
DTEND;TZID=Europe/Helsinki:20260304T210000
DTSTAMP:20260421T134720
CREATED:20260302T164016Z
LAST-MODIFIED:20260302T170342Z
UID:2608-1772650800-1772658000@lsa.buendnis-deutschland.de
SUMMARY:Bürgerdialog / Stammtisch in Halle (Saale)
DESCRIPTION:Wir treffen uns regelmäßig\, jeden1. Mittwoch im Monat\, im Großraum Halle / Saale. Aktuelle politische Themen\, insbesondere auch regional relevante Punkte wollen wir mit Euch diskutieren. Bei uns ist jeder willkommen\, ob Mitglied\, Interessent oder Gast. Wer teilnehmen möchte\, meldet sich bitte vor der Veranstaltung an bei martin.schroeder@buendnis-lsa.de. \nThema dieses Mal: Was muss sich in Sachsen-Anhalt ändern?
URL:https://lsa.buendnis-deutschland.de/event/2608
ATTACH;FMTTYPE=image/jpeg:https://lsa.buendnis-deutschland.de/wp-content/uploads/2026/03/Komm-zum-Stammtsich.jpg
END:VEVENT
BEGIN:VEVENT
DTSTART;TZID=Europe/Helsinki:20260312T193000
DTEND;TZID=Europe/Helsinki:20260312T213000
DTSTAMP:20260421T134720
CREATED:20260302T163512Z
LAST-MODIFIED:20260302T163512Z
UID:2604-1773343800-1773351000@lsa.buendnis-deutschland.de
SUMMARY:Libertärer Stammtisch in Magdeburg
DESCRIPTION:Parteiübergreifend\, inhaltlich offen\, für alle\, die etwas zu sagen haben\, inhaltlich diskutieren oder sich einfach nur informieren wollen. \nWir treffen uns im Zentrum von Magdeburg. Infos zum Ort erhaltet Ihr bei claudius.borgmann@buendnis-lsa.de.
URL:https://lsa.buendnis-deutschland.de/event/libertaerer-stammtisch-in-magdeburg-6
ATTACH;FMTTYPE=image/png:https://lsa.buendnis-deutschland.de/wp-content/uploads/2025/06/Logo_Libertaerer-Stammtisch.png
END:VEVENT
BEGIN:VEVENT
DTSTART;TZID=Europe/Helsinki:20260319T183000
DTEND;TZID=Europe/Helsinki:20260319T203000
DTSTAMP:20260421T134720
CREATED:20260302T163713Z
LAST-MODIFIED:20260302T163713Z
UID:2606-1773945000-1773952200@lsa.buendnis-deutschland.de
SUMMARY:Libertärer Stammtisch in Bernburg
DESCRIPTION:Parteiübergreifend\, inhaltlich offen\, für alle\, die etwas zu sagen haben\, inhaltlich diskutieren oder sich einfach nur informieren wollen. \nWir treffen uns im Zentrum von Bernburg. Infos zum Ort erhaltet Ihr bei claudius.borgmann@buendnis-lsa.de.
URL:https://lsa.buendnis-deutschland.de/event/libertaerer-stammtisch-in-bernburg-2
ATTACH;FMTTYPE=image/png:https://lsa.buendnis-deutschland.de/wp-content/uploads/2025/06/Logo_Libertaerer-Stammtisch.png
END:VEVENT
BEGIN:VEVENT
DTSTART;TZID=Europe/Helsinki:20260322T100000
DTEND;TZID=Europe/Helsinki:20260322T160000
DTSTAMP:20260421T134720
CREATED:20260302T170154Z
LAST-MODIFIED:20260302T170154Z
UID:2611-1774173600-1774195200@lsa.buendnis-deutschland.de
SUMMARY:Detailierung des Wahlprogramms
DESCRIPTION:Das vorläufige Wahlprogramm für die Landtagswahl ist bereits verabschiedet\, jetzt geht es in die Detailierungsphase. \nIm Vorfeld haben sich Mitglieder in Kleingruppen zusammengefunden und spezifische Themen in Breite und Tiefe ausgearbeitet. \n  \nAn diesem Tag werden die einzelnen Themen vorgestellt\, diskutiert und gefestrigt. \n  \nGäste sind willkommen. \n  \nDer Tagungsort befindet sich inm Großraum Magdeburg. \n  \nBitte melden Sie sich vorab an bei claudius.borgmann@buendnis-lsa.de. \n 
URL:https://lsa.buendnis-deutschland.de/event/detailierung-des-wahlprogramms
ATTACH;FMTTYPE=image/jpeg:https://lsa.buendnis-deutschland.de/wp-content/uploads/2026/02/Listenkandidaten_LTW2026_20260201.jpg
END:VEVENT
END:VCALENDAR