BEGIN:VCALENDAR
VERSION:2.0
PRODID:-//Bündnis Deutschland - Landesverband Sachsen-Anhalt - ECPv6.15.20//NONSGML v1.0//EN
CALSCALE:GREGORIAN
METHOD:PUBLISH
X-ORIGINAL-URL:https://lsa.buendnis-deutschland.de
X-WR-CALDESC:Veranstaltungen für Bündnis Deutschland - Landesverband Sachsen-Anhalt
REFRESH-INTERVAL;VALUE=DURATION:PT1H
X-Robots-Tag:noindex
X-PUBLISHED-TTL:PT1H
BEGIN:VTIMEZONE
TZID:Europe/Helsinki
BEGIN:DAYLIGHT
TZOFFSETFROM:+0200
TZOFFSETTO:+0300
TZNAME:EEST
DTSTART:20250330T010000
END:DAYLIGHT
BEGIN:STANDARD
TZOFFSETFROM:+0300
TZOFFSETTO:+0200
TZNAME:EET
DTSTART:20251026T010000
END:STANDARD
BEGIN:DAYLIGHT
TZOFFSETFROM:+0200
TZOFFSETTO:+0300
TZNAME:EEST
DTSTART:20260329T010000
END:DAYLIGHT
BEGIN:STANDARD
TZOFFSETFROM:+0300
TZOFFSETTO:+0200
TZNAME:EET
DTSTART:20261025T010000
END:STANDARD
BEGIN:DAYLIGHT
TZOFFSETFROM:+0200
TZOFFSETTO:+0300
TZNAME:EEST
DTSTART:20270328T010000
END:DAYLIGHT
BEGIN:STANDARD
TZOFFSETFROM:+0300
TZOFFSETTO:+0200
TZNAME:EET
DTSTART:20271031T010000
END:STANDARD
END:VTIMEZONE
BEGIN:VEVENT
DTSTART;TZID=Europe/Helsinki:20260201T100000
DTEND;TZID=Europe/Helsinki:20260201T140000
DTSTAMP:20260421T150253
CREATED:20260102T111459Z
LAST-MODIFIED:20260102T112115Z
UID:2465-1769940000-1769954400@lsa.buendnis-deutschland.de
SUMMARY:ordentlicher Landesparteitag
DESCRIPTION:Mitglieder erhalten eine schriftliche Einladung.
URL:https://lsa.buendnis-deutschland.de/event/ordentlicher-landesparteitag
ATTACH;FMTTYPE=image/jpeg:https://lsa.buendnis-deutschland.de/wp-content/uploads/2024/06/Kreuz_setzen.jpg
END:VEVENT
BEGIN:VEVENT
DTSTART;TZID=Europe/Helsinki:20260201T140000
DTEND;TZID=Europe/Helsinki:20260201T160000
DTSTAMP:20260421T150253
CREATED:20260102T111559Z
LAST-MODIFIED:20260102T112047Z
UID:2467-1769954400-1769961600@lsa.buendnis-deutschland.de
SUMMARY:Aufstellungsversammlung zur Landtagswahl / Landesliste
DESCRIPTION:Mitglieder erhalten eine schriftliche Einladung.
URL:https://lsa.buendnis-deutschland.de/event/aufstellungsversammlung-zur-landtagswahl-landesliste
ATTACH;FMTTYPE=image/jpeg:https://lsa.buendnis-deutschland.de/wp-content/uploads/2024/06/Kreuz_setzen.jpg
END:VEVENT
BEGIN:VEVENT
DTSTART;TZID=Europe/Helsinki:20260201T160000
DTEND;TZID=Europe/Helsinki:20260201T170000
DTSTAMP:20260421T150253
CREATED:20260102T111711Z
LAST-MODIFIED:20260102T112016Z
UID:2469-1769961600-1769965200@lsa.buendnis-deutschland.de
SUMMARY:ordentlicher Kreisparteitag Kreisverband Magdeburg - Börde
DESCRIPTION:Mitglieder erhalten eine schriftliche Einladung.
URL:https://lsa.buendnis-deutschland.de/event/ordentlicher-kreisparteitag-kreisverband-magdeburg-boerde
ATTACH;FMTTYPE=image/jpeg:https://lsa.buendnis-deutschland.de/wp-content/uploads/2024/06/Kreuz_setzen.jpg
END:VEVENT
BEGIN:VEVENT
DTSTART;TZID=Europe/Helsinki:20260204T190000
DTEND;TZID=Europe/Helsinki:20260204T210000
DTSTAMP:20260421T150253
CREATED:20260202T164256Z
LAST-MODIFIED:20260202T164256Z
UID:2528-1770231600-1770238800@lsa.buendnis-deutschland.de
SUMMARY:Stammtisch / Bürgerdialog im Süden Sachsen-Anhalts
DESCRIPTION:Wir treffen uns regelmäßig\, jeden1. Mittwoch im Monat\, im Großraum Halle / Saale. Aktuelle politische Themen\, insbesondere auch regional relevante Punkte wollen wir mit Euch diskutieren. Bei uns ist jeder willkommen\, ob Mitglied\, Interessent oder Gast. Wer teilnehmen möchte\, meldet sich bitte vor der Veranstaltung an bei martin.schroeder@buendnis-lsa.de. \nThema dieses Mal: Grundsteuererhöhung in Halle / Saale
URL:https://lsa.buendnis-deutschland.de/event/stammtisch-buergerdialog-im-sueden-sachsen-anhalts-2
ATTACH;FMTTYPE=image/jpeg:https://lsa.buendnis-deutschland.de/wp-content/uploads/2025/08/Komm-zum-Stammtsich.jpg
END:VEVENT
BEGIN:VEVENT
DTSTART;TZID=Europe/Helsinki:20260212T201500
DTEND;TZID=Europe/Helsinki:20260212T220000
DTSTAMP:20260421T150253
CREATED:20260202T163937Z
LAST-MODIFIED:20260202T163937Z
UID:2524-1770927300-1770933600@lsa.buendnis-deutschland.de
SUMMARY:Libertärer Stammtisch in Magdeburg
DESCRIPTION:Parteiübergreifend\, inhaltlich offen\, für alle\, die etwas zu sagen haben\, inhaltlich diskutieren oder sich einfach nur informieren wollen. \nWir treffen uns im Zentrum von Magdeburg. Infos zum Ort erhaltet Ihr bei claudius.borgmann@buendnis-lsa.de.
URL:https://lsa.buendnis-deutschland.de/event/libertaerer-stammtisch-in-magdeburg-5
ATTACH;FMTTYPE=image/png:https://lsa.buendnis-deutschland.de/wp-content/uploads/2025/06/Logo_Libertaerer-Stammtisch.png
END:VEVENT
BEGIN:VEVENT
DTSTART;TZID=Europe/Helsinki:20260219T183000
DTEND;TZID=Europe/Helsinki:20260219T210000
DTSTAMP:20260421T150253
CREATED:20260202T164106Z
LAST-MODIFIED:20260202T164106Z
UID:2526-1771525800-1771534800@lsa.buendnis-deutschland.de
SUMMARY:Libertärer Stammtisch in Bernburg
DESCRIPTION:Parteiübergreifend\, inhaltlich offen\, für alle\, die etwas zu sagen haben\, inhaltlich diskutieren oder sich einfach nur informieren wollen. \nWir treffen uns im Zentrum von Magdeburg. Infos zum Ort erhaltet Ihr bei claudius.borgmann@buendnis-lsa.de.
URL:https://lsa.buendnis-deutschland.de/event/libertaerer-stammtisch-in-bernburg
ATTACH;FMTTYPE=image/png:https://lsa.buendnis-deutschland.de/wp-content/uploads/2025/06/Logo_Libertaerer-Stammtisch.png
END:VEVENT
END:VCALENDAR