BEGIN:VCALENDAR
VERSION:2.0
PRODID:-//Bündnis Deutschland - Landesverband Sachsen-Anhalt - ECPv6.15.20//NONSGML v1.0//EN
CALSCALE:GREGORIAN
METHOD:PUBLISH
X-ORIGINAL-URL:https://lsa.buendnis-deutschland.de
X-WR-CALDESC:Veranstaltungen für Bündnis Deutschland - Landesverband Sachsen-Anhalt
REFRESH-INTERVAL;VALUE=DURATION:PT1H
X-Robots-Tag:noindex
X-PUBLISHED-TTL:PT1H
BEGIN:VTIMEZONE
TZID:Europe/Helsinki
BEGIN:DAYLIGHT
TZOFFSETFROM:+0200
TZOFFSETTO:+0300
TZNAME:EEST
DTSTART:20250330T010000
END:DAYLIGHT
BEGIN:STANDARD
TZOFFSETFROM:+0300
TZOFFSETTO:+0200
TZNAME:EET
DTSTART:20251026T010000
END:STANDARD
BEGIN:DAYLIGHT
TZOFFSETFROM:+0200
TZOFFSETTO:+0300
TZNAME:EEST
DTSTART:20260329T010000
END:DAYLIGHT
BEGIN:STANDARD
TZOFFSETFROM:+0300
TZOFFSETTO:+0200
TZNAME:EET
DTSTART:20261025T010000
END:STANDARD
BEGIN:DAYLIGHT
TZOFFSETFROM:+0200
TZOFFSETTO:+0300
TZNAME:EEST
DTSTART:20270328T010000
END:DAYLIGHT
BEGIN:STANDARD
TZOFFSETFROM:+0300
TZOFFSETTO:+0200
TZNAME:EET
DTSTART:20271031T010000
END:STANDARD
END:VTIMEZONE
BEGIN:VEVENT
DTSTART;TZID=Europe/Helsinki:20260108T193000
DTEND;TZID=Europe/Helsinki:20260108T213000
DTSTAMP:20260421T181826
CREATED:20260102T111842Z
LAST-MODIFIED:20260102T111905Z
UID:2472-1767900600-1767907800@lsa.buendnis-deutschland.de
SUMMARY:Libertärer Stammtisch in Magdeburg
DESCRIPTION:Parteiübergreifend\, inhaltlich offen\, für alle\, die etwas zu sagen haben\, inhaltlich diskutieren oder sich einfach nur informieren wollen. \nWir treffen uns im Zentrum von Magdeburg. Infos zum Ort erhaltet Ihr bei claudius.borgmann@buendnis-lsa.de.
URL:https://lsa.buendnis-deutschland.de/event/libertaerer-stammtisch-in-magdeburg-4
ATTACH;FMTTYPE=image/png:https://lsa.buendnis-deutschland.de/wp-content/uploads/2025/06/Logo_Libertaerer-Stammtisch.png
END:VEVENT
END:VCALENDAR